
BEGIN:VCALENDAR
VERSION:2.0
PRODID:-//MarkedsPartner AS//Umbraco CMS//NO
TIMEZONE-ID:Europe/Oslo
X-WR-TIMEZONE:Europe/Oslo


BEGIN:VEVENT
UID:dfa360b382414eb8b91a39c4ddecdbf6
URL:https://stavangernaering-2023.azurewebsites.net/moeter/arkiv/workshop-lean/
ORGANIZER;CN=Ola Normann:MAILTO:ola.normann@markedspartner.no
DTSTAMP:20210127T110000Z
DTSTART:20210127T110000Z
DTEND:20210127T130000Z
LAST-MODIFIED:20221031T120210Z
SUMMARY:Lean-workshop for ledere
DESCRIPTION:DIGITALKONFERANSE: Hvordan kan du som leder drive et effektivt Lean-arbeid? Bli med på digital workshop!
X-ALT-DESC:DIGITALKONFERANSE: Hvordan kan du som leder drive et effektivt Lean-arbeid? Bli med p&#229; digital workshop!
LOCATION:Online
END:VEVENT


END:VCALENDAR



