
BEGIN:VCALENDAR
VERSION:2.0
PRODID:-//MarkedsPartner AS//Umbraco CMS//NO
TIMEZONE-ID:Europe/Oslo
X-WR-TIMEZONE:Europe/Oslo


BEGIN:VEVENT
UID:beedbf86bcc7443282ec9d81e3e210bf
URL:https://stavangernaering-2023.azurewebsites.net/moeter/arkiv/utsikter-2021/
ORGANIZER;CN=Ola Normann:MAILTO:ola.normann@markedspartner.no
DTSTAMP:20210129T100000Z
DTSTART:20210129T100000Z
DTEND:20210129T110000Z
LAST-MODIFIED:20221031T120258Z
SUMMARY:Utsikter2021
DESCRIPTION:DIGITALKONFERANSE: Hvordan er utsiktene for norsk økonomi? Og hva skjer i Rogaland? For 16. gang inviterer DNB og Næringsforeningen til Utsikter. Sjeføkonom Kjersti Haugland presenterer årets økonomiske rapport på Utsikter2021.
X-ALT-DESC:DIGITALKONFERANSE: Hvordan er utsiktene for norsk &#248;konomi? Og hva skjer i Rogaland? For 16. gang inviterer DNB og N&#230;ringsforeningen til Utsikter. Sjef&#248;konom Kjersti Haugland presenterer &#229;rets &#248;konomiske rapport p&#229; Utsikter2021.
LOCATION:webinar
END:VEVENT


END:VCALENDAR



