
BEGIN:VCALENDAR
VERSION:2.0
PRODID:-//MarkedsPartner AS//Umbraco CMS//NO
TIMEZONE-ID:Europe/Oslo
X-WR-TIMEZONE:Europe/Oslo


BEGIN:VEVENT
UID:e4ff6ca54d4248349055dd0197edce2b
URL:https://stavangernaering-2023.azurewebsites.net/moeter/arkiv/u37-jaeren_110124/
ORGANIZER;CN=Ola Normann:MAILTO:ola.normann@markedspartner.no
DTSTAMP:20240111T180000Z
DTSTART:20240111T180000Z
DTEND:20240111T200000Z
LAST-MODIFIED:20240115T064504Z
SUMMARY:U37 Afterwork på Jæren
DESCRIPTION:Ung og keen på å utvide ditt nettverk? Vi inviterer til en uformell møtearena for unge profesjonelle Jærbuer.
X-ALT-DESC:Ung og keen p&#229; &#229; utvide ditt nettverk? Vi inviterer til en uformell m&#248;tearena for unge profesjonelle J&#230;rbuer.
LOCATION:Nordic Steel, Langmyra 6, 4344 Bryne
END:VEVENT


END:VCALENDAR



