
BEGIN:VCALENDAR
VERSION:2.0
PRODID:-//MarkedsPartner AS//Umbraco CMS//NO
TIMEZONE-ID:Europe/Oslo
X-WR-TIMEZONE:Europe/Oslo


BEGIN:VEVENT
UID:972718cf44de43ffbf9568abf8b6d672
URL:https://stavangernaering-2023.azurewebsites.net/moeter/arkiv/tungenesmoetet-2021/
ORGANIZER;CN=Ola Normann:MAILTO:ola.normann@markedspartner.no
DTSTAMP:20210915T153000Z
DTSTART:20210915T153000Z
DTEND:20210915T193000Z
LAST-MODIFIED:20221031T122314Z
SUMMARY:Tungenesmøtet 2021
DESCRIPTION:Velkommen til det tradisjonsrike Tungenesmøtet, for å bli oppdatert og inspirert av utviklingen i næringslivet, i og rundt Randaberg. I tillegg kommer han som kanskje har vært den travleste ministeren siden mars 2020, Bent Høie.
X-ALT-DESC:Velkommen til det tradisjonsrike Tungenesm&#248;tet, for &#229; bli oppdatert og inspirert av utviklingen i n&#230;ringslivet, i og rundt Randaberg. I tillegg kommer han som kanskje har v&#230;rt den travleste ministeren siden mars 2020, Bent H&#248;ie.
LOCATION:Ventilene, Viste Strand Hotel, Visteveien 47, 4070 Randaberg
END:VEVENT


END:VCALENDAR



