
BEGIN:VCALENDAR
VERSION:2.0
PRODID:-//MarkedsPartner AS//Umbraco CMS//NO
TIMEZONE-ID:Europe/Oslo
X-WR-TIMEZONE:Europe/Oslo


BEGIN:VEVENT
UID:eb0cd28b41884f9b926b952acb39c6b3
URL:https://stavangernaering-2023.azurewebsites.net/moeter/arkiv/treffpunkt-stavanger_september2021/
ORGANIZER;CN=Ola Normann:MAILTO:ola.normann@markedspartner.no
DTSTAMP:20210915T060000Z
DTSTART:20210915T060000Z
DTEND:20210915T080000Z
LAST-MODIFIED:20221031T122311Z
SUMMARY:Treffpunkt Stavanger: Merkevaren Stavanger
DESCRIPTION:Er vi en attraktiv region for å tiltrekke oss kloke hoder og hender, og for å få bedrifter til å etablere seg? Bli med på frokostmøte og hør om hvordan det jobbes i regionen for at flere skal velge Stavanger.
X-ALT-DESC:Er vi en attraktiv region for &#229; tiltrekke oss kloke hoder og hender, og for &#229; f&#229; bedrifter til &#229; etablere seg? Bli med p&#229; frokostm&#248;te og h&#248;r om hvordan det jobbes i regionen for at flere skal velge Stavanger.
LOCATION:Rosenkildehuset
END:VEVENT


END:VCALENDAR



