
BEGIN:VCALENDAR
VERSION:2.0
PRODID:-//MarkedsPartner AS//Umbraco CMS//NO
TIMEZONE-ID:Europe/Oslo
X-WR-TIMEZONE:Europe/Oslo


BEGIN:VEVENT
UID:ac7212e8df3f4b80aef0b3886f10d79a
URL:https://stavangernaering-2023.azurewebsites.net/moeter/arkiv/treffpunkt-stavanger_februar2021/
ORGANIZER;CN=Ola Normann:MAILTO:ola.normann@markedspartner.no
DTSTAMP:20210203T073000Z
DTSTART:20210203T073000Z
DTEND:20210203T090000Z
LAST-MODIFIED:20221031T120321Z
SUMMARY:Treffpunkt Stavanger: Næringsstrategi og -samarbeid
DESCRIPTION:DIGITALKONFERANSE: Hvordan skal Stavanger bli best i Norge på konkurransekraft og verdiskapning, og hvorfor er regionalt samarbeid viktig for å få dette til?
X-ALT-DESC:DIGITALKONFERANSE: Hvordan skal Stavanger bli best i Norge p&#229; konkurransekraft og verdiskapning, og hvorfor er regionalt samarbeid viktig for &#229; f&#229; dette til?
LOCATION:Online
END:VEVENT


END:VCALENDAR



