
BEGIN:VCALENDAR
VERSION:2.0
PRODID:-//MarkedsPartner AS//Umbraco CMS//NO
TIMEZONE-ID:Europe/Oslo
X-WR-TIMEZONE:Europe/Oslo


BEGIN:VEVENT
UID:9b0e42a3753948d49d344f1947a82f6f
URL:https://stavangernaering-2023.azurewebsites.net/moeter/arkiv/treffpunkt-sola_hoest2021/
ORGANIZER;CN=Ola Normann:MAILTO:ola.normann@markedspartner.no
DTSTAMP:20211110T170000Z
DTSTART:20211110T170000Z
DTEND:20211110T203000Z
LAST-MODIFIED:20221031T122923Z
SUMMARY:Treffpunkt Sola: Hvordan være attraktiv for fremtiden?
DESCRIPTION:For å møte fremtidens utfordringer og muligheter, trenger vi flere unge arbeidstakere og mer kompetanse til regionen. Hvordan kan næringene og regionen jobbe sammen for å være attraktive for arbeidskraft fra andre regioner? Og hvordan kan du sørge for at de vil jobbe hos deg?
X-ALT-DESC:For &#229; m&#248;te fremtidens utfordringer og muligheter, trenger vi flere unge arbeidstakere og mer kompetanse til regionen. Hvordan kan n&#230;ringene og regionen jobbe sammen for &#229; v&#230;re attraktive for arbeidskraft fra andre regioner? Og hvordan kan du s&#248;rge for at de vil jobbe hos deg?
LOCATION:Sola kulturhus. 
END:VEVENT


END:VCALENDAR



