
BEGIN:VCALENDAR
VERSION:2.0
PRODID:-//MarkedsPartner AS//Umbraco CMS//NO
TIMEZONE-ID:Europe/Oslo
X-WR-TIMEZONE:Europe/Oslo


BEGIN:VEVENT
UID:19278a04409a4499b01a52dcc5738eca
URL:https://stavangernaering-2023.azurewebsites.net/moeter/arkiv/treffpunkt-sandnes_211021/
ORGANIZER;CN=Ola Normann:MAILTO:ola.normann@markedspartner.no
DTSTAMP:20211021T060000Z
DTSTART:20211021T060000Z
DTEND:20211021T080000Z
LAST-MODIFIED:20221031T122641Z
SUMMARY:Treffpunkt Sandnes: By- og samfunnsutvikling post corona
DESCRIPTION:Hvordan skal vi leve, jobbe, bygge og bo post corona? Velkommen til Sandnes sin viktigste møteplass for næringslivet, hvor vi spør hvordan vi skal prioritere ift byutviklingen og samfunnsendringene post corona.
X-ALT-DESC:Hvordan skal vi leve, jobbe, bygge og bo post corona? Velkommen til Sandnes sin viktigste m&#248;teplass for n&#230;ringslivet, hvor vi sp&#248;r hvordan vi skal prioritere ift byutviklingen og samfunnsendringene post corona.
LOCATION:&#216;ster Hus Arena. 
END:VEVENT


END:VCALENDAR



