
BEGIN:VCALENDAR
VERSION:2.0
PRODID:-//MarkedsPartner AS//Umbraco CMS//NO
TIMEZONE-ID:Europe/Oslo
X-WR-TIMEZONE:Europe/Oslo


BEGIN:VEVENT
UID:26ec83b437aa477aa913ec4397af9de5
URL:https://stavangernaering-2023.azurewebsites.net/moeter/arkiv/treffpunkt-oeyane_2021/
ORGANIZER;CN=Ola Normann:MAILTO:ola.normann@markedspartner.no
DTSTAMP:20211006T153000Z
DTSTART:20211006T153000Z
DTEND:20211006T183000Z
LAST-MODIFIED:20221031T122553Z
SUMMARY:Treffpunkt Øyane: Samskaping og felleskap - Avlyst
DESCRIPTION:Velkommen til treffpunkt på øyane, hvor samarbeid og utvikling i næringslivet på Rennesøy og Finnøy settes på agendaen. Denne ettermiddagen besøker vi Hanasand Gård, og får omvisning på gården og kloke ord om hvordan man lykkes i samskaping.
X-ALT-DESC:Velkommen til treffpunkt p&#229; &#248;yane, hvor samarbeid og utvikling i n&#230;ringslivet p&#229; Rennes&#248;y og Finn&#248;y settes p&#229; agendaen. Denne ettermiddagen bes&#248;ker vi Hanasand G&#229;rd, og f&#229;r omvisning p&#229; g&#229;rden og kloke ord om hvordan man lykkes i samskaping.
LOCATION:Hanasand G&#229;rd, Hanasandveien 540, 4150 Rennes&#248;y
END:VEVENT


END:VCALENDAR



