
BEGIN:VCALENDAR
VERSION:2.0
PRODID:-//MarkedsPartner AS//Umbraco CMS//NO
TIMEZONE-ID:Europe/Oslo
X-WR-TIMEZONE:Europe/Oslo


BEGIN:VEVENT
UID:c722c8aec8c346e0baad5dd3f0ce460c
URL:https://stavangernaering-2023.azurewebsites.net/moeter/arkiv/treffpunkt-jaeren_februar2021/
ORGANIZER;CN=Ola Normann:MAILTO:ola.normann@markedspartner.no
DTSTAMP:20210901T153000Z
DTSTART:20210901T153000Z
DTEND:20210901T183000Z
LAST-MODIFIED:20221031T122250Z
SUMMARY:Treffpunkt Jæren: Hvordan bli den mest attraktive regionen?
DESCRIPTION:Hva skal vi leve av i fremtiden, i hvilke bransjer har vi størst omstilling, og hvordan kan vi på Jæren bli mer attraktiv på arbeidsmarkedet? Vi tar pulsen på fremtiden, når vi inviterer til næringstreff på Jæren.
X-ALT-DESC:Hva skal vi leve av i fremtiden, i hvilke bransjer har vi st&#248;rst omstilling, og hvordan kan vi p&#229; J&#230;ren bli mer attraktiv p&#229; arbeidsmarkedet? Vi tar pulsen p&#229; fremtiden, n&#229;r vi inviterer til n&#230;ringstreff p&#229; J&#230;ren.
LOCATION:Hotell J&#230;ren
END:VEVENT


END:VCALENDAR



