
BEGIN:VCALENDAR
VERSION:2.0
PRODID:-//MarkedsPartner AS//Umbraco CMS//NO
TIMEZONE-ID:Europe/Oslo
X-WR-TIMEZONE:Europe/Oslo


BEGIN:VEVENT
UID:11895b493bb8476f9127d7c6cd2487c8
URL:https://stavangernaering-2023.azurewebsites.net/moeter/arkiv/sommertreff-paa-bakernes-paradis/
ORGANIZER;CN=Ola Normann:MAILTO:ola.normann@markedspartner.no
DTSTAMP:20210825T160000Z
DTSTART:20210825T160000Z
DTEND:20210825T204500Z
LAST-MODIFIED:20221031T122216Z
SUMMARY:Sommertreff på Bakernes Paradis
DESCRIPTION:Velkommen til årets sommertreff i Sandnes. På helelektriske Rygerelektra drar vi inn til vakre Bakernes Paradis på Lauvik. Det blir gjensynsglede, nydelig mat, musikk av Olav Larsen, og ikke minst aktuelle foredrag om muligheter og nye næringer i Sandnes.
X-ALT-DESC:Velkommen til &#229;rets sommertreff i Sandnes. P&#229; helelektriske Rygerelektra drar vi inn til vakre Bakernes Paradis p&#229; Lauvik. Det blir gjensynsglede, nydelig mat, musikk av Olav Larsen, og ikke minst aktuelle foredrag om muligheter og nye n&#230;ringer i Sandnes.
LOCATION:Bakernes Paradis, Lauvikveien 265, 4308 Sandnes
END:VEVENT


END:VCALENDAR



