
BEGIN:VCALENDAR
VERSION:2.0
PRODID:-//MarkedsPartner AS//Umbraco CMS//NO
TIMEZONE-ID:Europe/Oslo
X-WR-TIMEZONE:Europe/Oslo


BEGIN:VEVENT
UID:237dce6013b24c56ac00883da57ede38
URL:https://stavangernaering-2023.azurewebsites.net/moeter/arkiv/sommerfest-i-dalane_24082021/
ORGANIZER;CN=Ola Normann:MAILTO:ola.normann@markedspartner.no
DTSTAMP:20210824T163000Z
DTSTART:20210824T163000Z
DTEND:20210824T203000Z
LAST-MODIFIED:20221031T122206Z
SUMMARY:Sommerfest i Dalane
DESCRIPTION:Endelig kan vi møtes igjen! Vi inviterer til sommerfest i teltet på Torvet med god mat og drikke, Dalanepris, en god drøs og ikke minst mingling!
X-ALT-DESC:Endelig kan vi m&#248;tes igjen! Vi inviterer til sommerfest i teltet p&#229; Torvet med god mat og drikke, Dalanepris, en god dr&#248;s og ikke minst mingling!
LOCATION:Teltet p&#229; Torvet!  NB- merk ny plass!
END:VEVENT


END:VCALENDAR



