
BEGIN:VCALENDAR
VERSION:2.0
PRODID:-//MarkedsPartner AS//Umbraco CMS//NO
TIMEZONE-ID:Europe/Oslo
X-WR-TIMEZONE:Europe/Oslo


BEGIN:VEVENT
UID:d6336a88e7a0425a9e34d6556799b923
URL:https://stavangernaering-2023.azurewebsites.net/moeter/arkiv/sirkulaerskolen1_280920/
ORGANIZER;CN=Ola Normann:MAILTO:ola.normann@markedspartner.no
DTSTAMP:20210824T084500Z
DTSTART:20210824T084500Z
DTEND:20210824T124500Z
LAST-MODIFIED:20221031T122202Z
SUMMARY:OPPSTART 2021: Sirkulærskolen: Høyere verdiskaping, mindre sløsing
DESCRIPTION:Morgendagens vinnere er sirkulære! Det grønne skiftet ligger over oss og bedrifter må gjennom en omstilling for å tilpasse seg krav og forventninger i omgivelsene. 
Skal FNs bærekraftsmål nås, må vi ha sirkulære forretningsmodeller. NB! Første del er flyttet til januar 2021.
X-ALT-DESC:Morgendagens vinnere er sirkul&#230;re! Det gr&#248;nne skiftet ligger over oss og bedrifter m&#229; gjennom en omstilling for &#229; tilpasse seg krav og forventninger i omgivelsene. 
Skal FNs b&#230;rekraftsm&#229;l n&#229;s, m&#229; vi ha sirkul&#230;re forretningsmodeller. NB! F&#248;rste del er flyttet til januar 2021.
LOCATION:
END:VEVENT


END:VCALENDAR



