
BEGIN:VCALENDAR
VERSION:2.0
PRODID:-//MarkedsPartner AS//Umbraco CMS//NO
TIMEZONE-ID:Europe/Oslo
X-WR-TIMEZONE:Europe/Oslo


BEGIN:VEVENT
UID:634f7a22baa240629169219a5bff2eb4
URL:https://stavangernaering-2023.azurewebsites.net/moeter/arkiv/salg22-5-1/
ORGANIZER;CN=Ola Normann:MAILTO:ola.normann@markedspartner.no
DTSTAMP:20220614T090000Z
DTSTART:20220614T090000Z
DTEND:20220614T110000Z
LAST-MODIFIED:20221031T121700Z
SUMMARY:Salg 2022: Digitale salgsmøter til glede for dine kunder og prospects
DESCRIPTION:Digitalt salgsmøte? Her får du tips og råd om hvordan du når ut til kunden – og sikrer salget, via skjermen.
X-ALT-DESC:Digitalt salgsm&#248;te? Her f&#229;r du tips og r&#229;d om hvordan du n&#229;r ut til kunden – og sikrer salget, via skjermen.
LOCATION:Rosenkildehuset
END:VEVENT


END:VCALENDAR



