
BEGIN:VCALENDAR
VERSION:2.0
PRODID:-//MarkedsPartner AS//Umbraco CMS//NO
TIMEZONE-ID:Europe/Oslo
X-WR-TIMEZONE:Europe/Oslo


BEGIN:VEVENT
UID:acedcddf63e049088711c845a34ac077
URL:https://stavangernaering-2023.azurewebsites.net/moeter/arkiv/salg22-4-1/
ORGANIZER;CN=Ola Normann:MAILTO:ola.normann@markedspartner.no
DTSTAMP:20220531T090000Z
DTSTART:20220531T090000Z
DTEND:20220531T110000Z
LAST-MODIFIED:20221031T121833Z
SUMMARY:Salg 2022: Salg og digital markedsføring - sammen blir vi sterke
DESCRIPTION:Hvor viktig er digital markedsføring for at en selger skal nå sine salgsmål? På denne samlingen får du en introduksjon til inbound marketing og salg. Vi skal også se nærmere på Account Based Marketing (ABM), spesielt for storkundesalg. Vi har med oss Mette Mi Honorè, Sofie Amalie Høbroe Sandstøl og Øyvind Jacobsen fra Leadify.
X-ALT-DESC:Hvor viktig er digital markedsf&#248;ring for at en selger skal n&#229; sine salgsm&#229;l? P&#229; denne samlingen f&#229;r du en introduksjon til inbound marketing og salg. Vi skal ogs&#229; se n&#230;rmere p&#229; Account Based Marketing (ABM), spesielt for storkundesalg. Vi har med oss Mette Mi Honor&#232;, Sofie Amalie H&#248;broe Sandst&#248;l og &#216;yvind Jacobsen fra Leadify.
LOCATION:Rosenkildehuset
END:VEVENT


END:VCALENDAR



