
BEGIN:VCALENDAR
VERSION:2.0
PRODID:-//MarkedsPartner AS//Umbraco CMS//NO
TIMEZONE-ID:Europe/Oslo
X-WR-TIMEZONE:Europe/Oslo


BEGIN:VEVENT
UID:f364419b68f24e3cacfc57babb8b0b09
URL:https://stavangernaering-2023.azurewebsites.net/moeter/arkiv/salg22-3/
ORGANIZER;CN=Ola Normann:MAILTO:ola.normann@markedspartner.no
DTSTAMP:20220503T090000Z
DTSTART:20220503T090000Z
DTEND:20220503T110000Z
LAST-MODIFIED:20221031T121412Z
SUMMARY:Salg 2022: Salgspresentasjoner: Hvordan skape magi i kundemøtene?
DESCRIPTION:Lær å lage den ultimate salgspresentasjonen som sikrer deg salget.
X-ALT-DESC:L&#230;r &#229; lage den ultimate salgspresentasjonen som sikrer deg salget.
LOCATION:Rosenkildehuset
END:VEVENT


END:VCALENDAR



