
BEGIN:VCALENDAR
VERSION:2.0
PRODID:-//MarkedsPartner AS//Umbraco CMS//NO
TIMEZONE-ID:Europe/Oslo
X-WR-TIMEZONE:Europe/Oslo


BEGIN:VEVENT
UID:c658e6e8e1604684984288a7f583020c
URL:https://stavangernaering-2023.azurewebsites.net/moeter/arkiv/salg22-2/
ORGANIZER;CN=Ola Normann:MAILTO:ola.normann@markedspartner.no
DTSTAMP:20220329T090000Z
DTSTART:20220329T090000Z
DTEND:20220329T110000Z
LAST-MODIFIED:20221031T122414Z
SUMMARY:Salg 2022: Salg og Markedsføring på messer og events 
DESCRIPTION:Få tips til hvordan selskapet ditt kan styrke resultatene fra deltakelse på messer og events. Case: ONS
X-ALT-DESC:F&#229; tips til hvordan selskapet ditt kan styrke resultatene fra deltakelse p&#229; messer og events. Case: ONS
LOCATION:Rosenkildehuset
END:VEVENT


END:VCALENDAR



