
BEGIN:VCALENDAR
VERSION:2.0
PRODID:-//MarkedsPartner AS//Umbraco CMS//NO
TIMEZONE-ID:Europe/Oslo
X-WR-TIMEZONE:Europe/Oslo


BEGIN:VEVENT
UID:5130b02d105b44359a3f23e3cff33b0a
URL:https://stavangernaering-2023.azurewebsites.net/moeter/arkiv/salg-for-selgere_090321/
ORGANIZER;CN=Ola Normann:MAILTO:ola.normann@markedspartner.no
DTSTAMP:20210309T073000Z
DTSTART:20210309T073000Z
DTEND:20210309T090000Z
LAST-MODIFIED:20221031T120746Z
SUMMARY:Lag gode salgspresentasjoner
DESCRIPTION:DIGITALKONFERANSE: Vi inviterer til trening i hvordan du kan tilpasse din salgspresentasjon for å selge mer effektivt, når du først har lykkes med å komme til bordet hos din fremtidige kunde.
X-ALT-DESC:DIGITALKONFERANSE: Vi inviterer til trening i hvordan du kan tilpasse din salgspresentasjon for &#229; selge mer effektivt, n&#229;r du f&#248;rst har lykkes med &#229; komme til bordet hos din fremtidige kunde.
LOCATION:Webinar
END:VEVENT


END:VCALENDAR



