
BEGIN:VCALENDAR
VERSION:2.0
PRODID:-//MarkedsPartner AS//Umbraco CMS//NO
TIMEZONE-ID:Europe/Oslo
X-WR-TIMEZONE:Europe/Oslo


BEGIN:VEVENT
UID:e046a98ee7ac4585bace165289310d84
URL:https://stavangernaering-2023.azurewebsites.net/moeter/arkiv/salg-for-selgere_051021/
ORGANIZER;CN=Ola Normann:MAILTO:ola.normann@markedspartner.no
DTSTAMP:20211005T060000Z
DTSTART:20211005T060000Z
DTEND:20211005T093000Z
LAST-MODIFIED:20221031T122547Z
SUMMARY:Salg for selgere
DESCRIPTION:Salg for selgere er en aktiv møteplass for salgsledere og selgere for å sikre kompetansedeling, begeistring og nye kontakter.  Etter 18 måneder med webinar, så skal vi møtes ansikt til ansikt for å diskutere salg igjen.  Det kommer til å fylle rommet med positiv lyd.
X-ALT-DESC:Salg for selgere er en aktiv m&#248;teplass for salgsledere og selgere for &#229; sikre kompetansedeling, begeistring og nye kontakter.  Etter 18 m&#229;neder med webinar, s&#229; skal vi m&#248;tes ansikt til ansikt for &#229; diskutere salg igjen.  Det kommer til &#229; fylle rommet med positiv lyd.
LOCATION:Rosenkildehuset
END:VEVENT


END:VCALENDAR



