
BEGIN:VCALENDAR
VERSION:2.0
PRODID:-//MarkedsPartner AS//Umbraco CMS//NO
TIMEZONE-ID:Europe/Oslo
X-WR-TIMEZONE:Europe/Oslo


BEGIN:VEVENT
UID:b4e66fbaf64f46abb991c3795083c14e
URL:https://stavangernaering-2023.azurewebsites.net/moeter/arkiv/risavikadagen-2021/
ORGANIZER;CN=Ola Normann:MAILTO:ola.normann@markedspartner.no
DTSTAMP:20211022T060000Z
DTSTART:20211022T060000Z
DTEND:20211022T120000Z
LAST-MODIFIED:20221031T122648Z
SUMMARY:Risavikadagen 2021
DESCRIPTION:Hva er fremtidsutsiktene for Risavika? Hvordan skal vi jobbe for at Risavika fortsatt kan sikre verdiskapning og arbeidsplasser? Bli med på årets Risavikadag, og få utsiktene presentert.
X-ALT-DESC:Hva er fremtidsutsiktene for Risavika? Hvordan skal vi jobbe for at Risavika fortsatt kan sikre verdiskapning og arbeidsplasser? Bli med p&#229; &#229;rets Risavikadag, og f&#229; utsiktene presentert.
LOCATION:Solastranden G&#229;rd, Nordsj&#248;vegen 299, 4053 R&#230;ge.
END:VEVENT


END:VCALENDAR



