
BEGIN:VCALENDAR
VERSION:2.0
PRODID:-//MarkedsPartner AS//Umbraco CMS//NO
TIMEZONE-ID:Europe/Oslo
X-WR-TIMEZONE:Europe/Oslo


BEGIN:VEVENT
UID:e2c1a3ad450946ffa834f64242dbcae0
URL:https://stavangernaering-2023.azurewebsites.net/moeter/arkiv/pitchingvideo20921/
ORGANIZER;CN=Ola Normann:MAILTO:ola.normann@markedspartner.no
DTSTAMP:20211104T120000Z
DTSTART:20211104T120000Z
DTEND:20211104T133000Z
LAST-MODIFIED:20221031T122854Z
SUMMARY:Kunsten å gjøre seg forstått
DESCRIPTION:Å gjøre seg forstått kan være en krevende øvelse. Er det for mye informasjon? For lite? For komplisert? Hvorfor blir ikke mottakerne dine like engasjert som deg?
X-ALT-DESC:&#197; gj&#248;re seg forst&#229;tt kan v&#230;re en krevende &#248;velse. Er det for mye informasjon? For lite? For komplisert? Hvorfor blir ikke mottakerne dine like engasjert som deg?
LOCATION:Online
END:VEVENT


END:VCALENDAR



