
BEGIN:VCALENDAR
VERSION:2.0
PRODID:-//MarkedsPartner AS//Umbraco CMS//NO
TIMEZONE-ID:Europe/Oslo
X-WR-TIMEZONE:Europe/Oslo


BEGIN:VEVENT
UID:7e7cddfcc7be47e09382c8e0be358b92
URL:https://stavangernaering-2023.azurewebsites.net/moeter/arkiv/pitching-og-effektiv-kommunikasjon/
ORGANIZER;CN=Ola Normann:MAILTO:ola.normann@markedspartner.no
DTSTAMP:20210115T110000Z
DTSTART:20210115T110000Z
DTEND:20210115T120000Z
LAST-MODIFIED:20221031T115950Z
SUMMARY:Pitching og overbevising
DESCRIPTION:DIGITALKONFERANSE: Bli en god formidler, og lær hvordan du kan forbedre ditt budskap for å overbevise andre. Vi inviterer til digital konferanse der du lærer å pitche, og om det viktige forarbeidet i å tilpasse budskapet til målgruppen.
X-ALT-DESC:DIGITALKONFERANSE: Bli en god formidler, og l&#230;r hvordan du kan forbedre ditt budskap for &#229; overbevise andre. Vi inviterer til digital konferanse der du l&#230;rer &#229; pitche, og om det viktige forarbeidet i &#229; tilpasse budskapet til m&#229;lgruppen.
LOCATION:Online
END:VEVENT


END:VCALENDAR



