
BEGIN:VCALENDAR
VERSION:2.0
PRODID:-//MarkedsPartner AS//Umbraco CMS//NO
TIMEZONE-ID:Europe/Oslo
X-WR-TIMEZONE:Europe/Oslo


BEGIN:VEVENT
UID:acd311d163b44ed8beb21a862ced43fb
URL:https://stavangernaering-2023.azurewebsites.net/moeter/arkiv/pion&#233;r2021_071021/
ORGANIZER;CN=Ola Normann:MAILTO:ola.normann@markedspartner.no
DTSTAMP:20211007T063000Z
DTSTART:20211007T063000Z
DTEND:20211007T140000Z
LAST-MODIFIED:20221031T122604Z
SUMMARY:Bærekraftskonferansen Pionér 
DESCRIPTION:Vil du høre mer om nye tankesett og utvikling for inspirasjon og markedsmuligheter?
X-ALT-DESC:Vil du h&#248;re mer om nye tankesett og utvikling for inspirasjon og markedsmuligheter?
LOCATION:Clarion Hotel Stavanger
END:VEVENT


END:VCALENDAR



