
BEGIN:VCALENDAR
VERSION:2.0
PRODID:-//MarkedsPartner AS//Umbraco CMS//NO
TIMEZONE-ID:Europe/Oslo
X-WR-TIMEZONE:Europe/Oslo


BEGIN:VEVENT
UID:a7de7ed6f8d54b7e845e679efa42c20f
URL:https://stavangernaering-2023.azurewebsites.net/moeter/arkiv/pion&#233;r-2020/
ORGANIZER;CN=Ola Normann:MAILTO:ola.normann@markedspartner.no
DTSTAMP:20201014T063000Z
DTSTART:20201014T063000Z
DTEND:20201014T130000Z
LAST-MODIFIED:20221031T114053Z
SUMMARY:Pionér 2020
DESCRIPTION:På Pionér 2020 vil du møte de som går foran i møte med framtiden.
X-ALT-DESC:P&#229; Pion&#233;r 2020 vil du m&#248;te de som g&#229;r foran i m&#248;te med framtiden.
LOCATION:FOMO/Scandic Stavanger Forus
END:VEVENT


END:VCALENDAR



