
BEGIN:VCALENDAR
VERSION:2.0
PRODID:-//MarkedsPartner AS//Umbraco CMS//NO
TIMEZONE-ID:Europe/Oslo
X-WR-TIMEZONE:Europe/Oslo


BEGIN:VEVENT
UID:ad258202c3e4416f854adfff0e2916ec
URL:https://stavangernaering-2023.azurewebsites.net/moeter/arkiv/pion&#233;r-2020-stream/
ORGANIZER;CN=Ola Normann:MAILTO:ola.normann@markedspartner.no
DTSTAMP:20201014T093000Z
DTSTART:20201014T093000Z
DTEND:20201014T130000Z
LAST-MODIFIED:20221031T114058Z
SUMMARY:Pionér 2020 STREAMING
DESCRIPTION:Bli med på Pionér 2020 direkte fra stua di!
X-ALT-DESC:Bli med p&#229; Pion&#233;r 2020 direkte fra stua di!
LOCATION:Digitalt
END:VEVENT


END:VCALENDAR



