
BEGIN:VCALENDAR
VERSION:2.0
PRODID:-//MarkedsPartner AS//Umbraco CMS//NO
TIMEZONE-ID:Europe/Oslo
X-WR-TIMEZONE:Europe/Oslo


BEGIN:VEVENT
UID:192b9b8d2d3245acab4be88957d9c85b
URL:https://stavangernaering-2023.azurewebsites.net/moeter/arkiv/otd-finans_201021/
ORGANIZER;CN=Ola Normann:MAILTO:ola.normann@markedspartner.no
DTSTAMP:20211020T070000Z
DTSTART:20211020T070000Z
DTEND:20211020T093000Z
LAST-MODIFIED:20221031T122635Z
SUMMARY:OTD Energy: Slik finansierer vi transformasjonen
DESCRIPTION:Transformasjonen i energisektoren vil kreve finansiering, struktur, innovasjon og tempo. Nå kommer Kyrre M. Knutsen fra SpareBank 1 SR-Bank, Vegard Sjursen og Maria Helsengreen fra EY for å gi deg de beste finansieringsrådene, sammen med flere andre fra bransjen og virkemiddelapparatet.
X-ALT-DESC:Transformasjonen i energisektoren vil kreve finansiering, struktur, innovasjon og tempo. N&#229; kommer Kyrre M. Knutsen fra SpareBank 1 SR-Bank, Vegard Sjursen og Maria Helsengreen fra EY for &#229; gi deg de beste finansieringsr&#229;dene, sammen med flere andre fra bransjen og virkemiddelapparatet.
LOCATION:Clarion Hotel Energy, Ishockeyveien 2, 4021 Stavanger
END:VEVENT


END:VCALENDAR



