
BEGIN:VCALENDAR
VERSION:2.0
PRODID:-//MarkedsPartner AS//Umbraco CMS//NO
TIMEZONE-ID:Europe/Oslo
X-WR-TIMEZONE:Europe/Oslo


BEGIN:VEVENT
UID:819e60ab398b4ac7af29a7f25fa0b5df
URL:https://stavangernaering-2023.azurewebsites.net/moeter/arkiv/muligheter-offisiell-aapning_110121/
ORGANIZER;CN=Ola Normann:MAILTO:ola.normann@markedspartner.no
DTSTAMP:20210111T120000Z
DTSTART:20210111T120000Z
DTEND:20210111T131500Z
LAST-MODIFIED:20221031T115851Z
SUMMARY:Muligheter: Offisiell åpning!
DESCRIPTION:DIGITALKONFERANSE: MULIGHETER er en felles møteplass og informasjonskanal for å synliggjøre hva som finnes av muligheter i regionen, både når det gjelder utdanning og nye jobber.
X-ALT-DESC:DIGITALKONFERANSE: MULIGHETER er en felles m&#248;teplass og informasjonskanal for &#229; synliggj&#248;re hva som finnes av muligheter i regionen, b&#229;de n&#229;r det gjelder utdanning og nye jobber.
LOCATION:Online
END:VEVENT


END:VCALENDAR



