
BEGIN:VCALENDAR
VERSION:2.0
PRODID:-//MarkedsPartner AS//Umbraco CMS//NO
TIMEZONE-ID:Europe/Oslo
X-WR-TIMEZONE:Europe/Oslo


BEGIN:VEVENT
UID:09a4305096e64ab9b2b752fb209f998e
URL:https://stavangernaering-2023.azurewebsites.net/moeter/arkiv/muligheter-fagbrev_010221/
ORGANIZER;CN=Ola Normann:MAILTO:ola.normann@markedspartner.no
DTSTAMP:20210201T120000Z
DTSTART:20210201T120000Z
DTEND:20210201T131500Z
LAST-MODIFIED:20221031T120311Z
SUMMARY:Muligheter: Fagbrev åpner nye muligheter
DESCRIPTION:DIGITALKONFERANSE: Det å kunne et håndverk går aldri ut på dato. Uansett hvor mye vi skal lagre i skyen,  eller kunne utføre ved å gi signaler til «Siri, Google eller andre», så er det behov for fagfolk i alle disipliner for å holde samfunnet i gang.
X-ALT-DESC:DIGITALKONFERANSE: Det &#229; kunne et h&#229;ndverk g&#229;r aldri ut p&#229; dato. Uansett hvor mye vi skal lagre i skyen,  eller kunne utf&#248;re ved &#229; gi signaler til &#171;Siri, Google eller andre&#187;, s&#229; er det behov for fagfolk i alle disipliner for &#229; holde samfunnet i gang.
LOCATION:Digital konferanse
END:VEVENT


END:VCALENDAR



