
BEGIN:VCALENDAR
VERSION:2.0
PRODID:-//MarkedsPartner AS//Umbraco CMS//NO
TIMEZONE-ID:Europe/Oslo
X-WR-TIMEZONE:Europe/Oslo


BEGIN:VEVENT
UID:cd5027e56bb149fb8a7eb15ed0e68f1d
URL:https://stavangernaering-2023.azurewebsites.net/moeter/arkiv/muligheter-cv_250121/
ORGANIZER;CN=Ola Normann:MAILTO:ola.normann@markedspartner.no
DTSTAMP:20210125T120000Z
DTSTART:20210125T120000Z
DTEND:20210125T140000Z
LAST-MODIFIED:20221031T120138Z
SUMMARY:Muligheter: CV – Hvordan gjøre den til en vinner
DESCRIPTION:DIGITALKONFERANSE: Når oppdaterte du sist din CV? Hva er det bedriftene eller de som rekruttere ser etter når de leser CVéne?
X-ALT-DESC:DIGITALKONFERANSE: N&#229;r oppdaterte du sist din CV? Hva er det bedriftene eller de som rekruttere ser etter n&#229;r de leser CV&#233;ne?
LOCATION:Online
END:VEVENT


END:VCALENDAR



