
BEGIN:VCALENDAR
VERSION:2.0
PRODID:-//MarkedsPartner AS//Umbraco CMS//NO
TIMEZONE-ID:Europe/Oslo
X-WR-TIMEZONE:Europe/Oslo


BEGIN:VEVENT
UID:c75ab64739474e96aede643585b8260f
URL:https://stavangernaering-2023.azurewebsites.net/moeter/arkiv/logistikkdagen-2021/
ORGANIZER;CN=Ola Normann:MAILTO:ola.normann@markedspartner.no
DTSTAMP:20211109T071500Z
DTSTART:20211109T071500Z
DTEND:20211109T133000Z
LAST-MODIFIED:20221031T122915Z
SUMMARY:Logistikkdagen 2021
DESCRIPTION:Hvilke nye trender ser vi i logistikkbransjen og hvilke konsekvenser vil det få for næringene? Vi tar opp spørsmålene når vi inviterer til den den største og viktigste møteplassen i Rogaland, for alle som er opptatt av samferdsel, transport og logistikk.
X-ALT-DESC:Hvilke nye trender ser vi i logistikkbransjen og hvilke konsekvenser vil det f&#229; for n&#230;ringene? Vi tar opp sp&#248;rsm&#229;lene n&#229;r vi inviterer til den den st&#248;rste og viktigste m&#248;teplassen i Rogaland, for alle som er opptatt av samferdsel, transport og logistikk.
LOCATION:Scandic Forus
END:VEVENT


END:VCALENDAR



