
BEGIN:VCALENDAR
VERSION:2.0
PRODID:-//MarkedsPartner AS//Umbraco CMS//NO
TIMEZONE-ID:Europe/Oslo
X-WR-TIMEZONE:Europe/Oslo


BEGIN:VEVENT
UID:56d8740cb8d344c6bcd4e577c80e5531
URL:https://stavangernaering-2023.azurewebsites.net/moeter/arkiv/linkedin3/
ORGANIZER;CN=Ola Normann:MAILTO:ola.normann@markedspartner.no
DTSTAMP:20210916T103000Z
DTSTART:20210916T103000Z
DTEND:20210916T123000Z
LAST-MODIFIED:20221031T122317Z
SUMMARY:Øk bedriftens synlighet på Linkedin med dine ansatte
DESCRIPTION:Hvordan de ansatte fremstår på LinkedIn gjennom sine profiler kan bidra til å styrke, eller svekke, bedriftens omdømme. Sørg for at det slår ut i riktig retning for din bedrift.
X-ALT-DESC:Hvordan de ansatte fremst&#229;r p&#229; LinkedIn gjennom sine profiler kan bidra til &#229; styrke, eller svekke, bedriftens omd&#248;mme. S&#248;rg for at det sl&#229;r ut i riktig retning for din bedrift.
LOCATION:Quality Airport Hotel Stavanger, Sola (gratis parkering).
END:VEVENT


END:VCALENDAR



