
BEGIN:VCALENDAR
VERSION:2.0
PRODID:-//MarkedsPartner AS//Umbraco CMS//NO
TIMEZONE-ID:Europe/Oslo
X-WR-TIMEZONE:Europe/Oslo


BEGIN:VEVENT
UID:e275b513baff487bb3b520e82d8833c8
URL:https://stavangernaering-2023.azurewebsites.net/moeter/arkiv/linkedin2/
ORGANIZER;CN=Ola Normann:MAILTO:ola.normann@markedspartner.no
DTSTAMP:20210819T103000Z
DTSTART:20210819T103000Z
DTEND:20210819T123000Z
LAST-MODIFIED:20221031T122150Z
SUMMARY:Den ultimate LinkedIn-profilen
DESCRIPTION:Uansett hva du ønsker å bruke LinkedIn til, er det viktig at profilen er representativ for hvem du er og hva du kan. Med en bevisst personlig merkevarebygging på LinkedIn kan du skaffe deg den riktige kunden, jobben eller muligheten.
X-ALT-DESC:Uansett hva du &#248;nsker &#229; bruke LinkedIn til, er det viktig at profilen er representativ for hvem du er og hva du kan. Med en bevisst personlig merkevarebygging p&#229; LinkedIn kan du skaffe deg den riktige kunden, jobben eller muligheten.
LOCATION:Quality Airport Hotel Stavanger, S&#248;mmeveien 1 p&#229; Sola (gratis parkering).
END:VEVENT


END:VCALENDAR



