
BEGIN:VCALENDAR
VERSION:2.0
PRODID:-//MarkedsPartner AS//Umbraco CMS//NO
TIMEZONE-ID:Europe/Oslo
X-WR-TIMEZONE:Europe/Oslo


BEGIN:VEVENT
UID:612f6d7a7289420d9b78358df9fbcb3c
URL:https://stavangernaering-2023.azurewebsites.net/moeter/arkiv/lederskolen_291021/
ORGANIZER;CN=Ola Normann:MAILTO:ola.normann@markedspartner.no
DTSTAMP:20211029T090000Z
DTSTART:20211029T090000Z
DTEND:20211029T121500Z
LAST-MODIFIED:20221031T122754Z
SUMMARY:Lederskolen: Vaner spiser intensjoner til frokost 
DESCRIPTION:Vaner spiser intensjoner til frokost. Myten om gjennomtenkte valg! Professor Bendik Meling Samuelsen har alltid vært nysgjerrig på hvorfor forbrukerne tar de valgene de gjør.
X-ALT-DESC:Vaner spiser intensjoner til frokost. Myten om gjennomtenkte valg! Professor Bendik Meling Samuelsen har alltid v&#230;rt nysgjerrig p&#229; hvorfor forbrukerne tar de valgene de gj&#248;r.
LOCATION:BI Stavanger
END:VEVENT


END:VCALENDAR



