
BEGIN:VCALENDAR
VERSION:2.0
PRODID:-//MarkedsPartner AS//Umbraco CMS//NO
TIMEZONE-ID:Europe/Oslo
X-WR-TIMEZONE:Europe/Oslo


BEGIN:VEVENT
UID:020075baaf5a4c5cb073fa946f1f5ebf
URL:https://stavangernaering-2023.azurewebsites.net/moeter/arkiv/lederskolen_290422/
ORGANIZER;CN=Ola Normann:MAILTO:ola.normann@markedspartner.no
DTSTAMP:20220429T074500Z
DTSTART:20220429T074500Z
DTEND:20220429T110000Z
LAST-MODIFIED:20221031T122259Z
SUMMARY:Lederskolen: Slik blir du en superleder
DESCRIPTION:Denne gangen på lederskolen avslører Elin Akre Trønnes hvordan du kan bli en superleder – og hun gir oss tre tre strategier for hvordan vi kan være den beste sjefen før, under og etter krevende overgangsperioder – enten det er en pandemi, en nedbemanning eller andre situasjoner som endrer mye i hverdagen.
X-ALT-DESC:Denne gangen p&#229; lederskolen avsl&#248;rer Elin Akre Tr&#248;nnes hvordan du kan bli en superleder – og hun gir oss tre tre strategier for hvordan vi kan v&#230;re den beste sjefen f&#248;r, under og etter krevende overgangsperioder – enten det er en pandemi, en nedbemanning eller andre situasjoner som endrer mye i hverdagen.
LOCATION:BI Stavanger, Byfjordparken 17.
END:VEVENT


END:VCALENDAR



