
BEGIN:VCALENDAR
VERSION:2.0
PRODID:-//MarkedsPartner AS//Umbraco CMS//NO
TIMEZONE-ID:Europe/Oslo
X-WR-TIMEZONE:Europe/Oslo


BEGIN:VEVENT
UID:f1c4ae7dab784b66bcde04621c5a4779
URL:https://stavangernaering-2023.azurewebsites.net/moeter/arkiv/lederskolen_270821/
ORGANIZER;CN=Ola Normann:MAILTO:ola.normann@markedspartner.no
DTSTAMP:20210827T074500Z
DTSTART:20210827T074500Z
DTEND:20210827T110000Z
LAST-MODIFIED:20221031T122220Z
SUMMARY:Lederskolen: Ledelse som profesjon
DESCRIPTION:- Den beste ideen kan ligge dypt i organisasjonen. Å være klar over det, og åpen for det, er en viktig del av god ledelse, sier professor Ragnhild Kvålshaugen. Første samling er nå fulltegnet, men det er mulig å delta digitalt.
X-ALT-DESC:- Den beste ideen kan ligge dypt i organisasjonen. &#197; v&#230;re klar over det, og &#229;pen for det, er en viktig del av god ledelse, sier professor Ragnhild Kv&#229;lshaugen. F&#248;rste samling er n&#229; fulltegnet, men det er mulig &#229; delta digitalt.
LOCATION:BI Stavanger, Byfjordparken 17
END:VEVENT


END:VCALENDAR



