
BEGIN:VCALENDAR
VERSION:2.0
PRODID:-//MarkedsPartner AS//Umbraco CMS//NO
TIMEZONE-ID:Europe/Oslo
X-WR-TIMEZONE:Europe/Oslo


BEGIN:VEVENT
UID:b9af06ec190e454a82e45ac1351fc9d9
URL:https://stavangernaering-2023.azurewebsites.net/moeter/arkiv/lederskolen_261121/
ORGANIZER;CN=Ola Normann:MAILTO:ola.normann@markedspartner.no
DTSTAMP:20211126T084500Z
DTSTART:20211126T084500Z
DTEND:20211126T120000Z
LAST-MODIFIED:20221031T123219Z
SUMMARY:Lederskolen: Skape kultur for kompetansedeling
DESCRIPTION:– Aktive, engasjerende og morsomme læringsopplevelser er noe jeg brenner for, sier Mads Nordmo Arnestad.
X-ALT-DESC:– Aktive, engasjerende og morsomme l&#230;ringsopplevelser er noe jeg brenner for, sier Mads Nordmo Arnestad.
LOCATION:BI Stavanger
END:VEVENT


END:VCALENDAR



