
BEGIN:VCALENDAR
VERSION:2.0
PRODID:-//MarkedsPartner AS//Umbraco CMS//NO
TIMEZONE-ID:Europe/Oslo
X-WR-TIMEZONE:Europe/Oslo


BEGIN:VEVENT
UID:5d8029e9226045e5a45f518e6aa99f10
URL:https://stavangernaering-2023.azurewebsites.net/moeter/arkiv/lederskolen_240921/
ORGANIZER;CN=Ola Normann:MAILTO:ola.normann@markedspartner.no
DTSTAMP:20210924T074500Z
DTSTART:20210924T074500Z
DTEND:20210924T110000Z
LAST-MODIFIED:20221031T122405Z
SUMMARY:Lederskolen: Er ledelse en truet kultur?
DESCRIPTION:Begrepet «ledelse» har vært med oss i 70 år. Er det på vei ut? undrer professor Jan Ketil Arnulf. Han inviterer deg med på en tankereise i dette spennende foredraget.
X-ALT-DESC:Begrepet &#171;ledelse&#187; har v&#230;rt med oss i 70 &#229;r. Er det p&#229; vei ut? undrer professor Jan Ketil Arnulf. Han inviterer deg med p&#229; en tankereise i dette spennende foredraget.
LOCATION:BI Stavanger, Byfjordparken 17
END:VEVENT


END:VCALENDAR



