
BEGIN:VCALENDAR
VERSION:2.0
PRODID:-//MarkedsPartner AS//Umbraco CMS//NO
TIMEZONE-ID:Europe/Oslo
X-WR-TIMEZONE:Europe/Oslo


BEGIN:VEVENT
UID:dd639a5cf86f4203822b09a286152500
URL:https://stavangernaering-2023.azurewebsites.net/moeter/arkiv/lederskolen_010422/
ORGANIZER;CN=Ola Normann:MAILTO:ola.normann@markedspartner.no
DTSTAMP:20220401T074500Z
DTSTART:20220401T074500Z
DTEND:20220401T110000Z
LAST-MODIFIED:20221031T122510Z
SUMMARY:Lederskolen: Ledelse er for viktig til å overlates til ledere
DESCRIPTION:Alle har et forhold til ledelse. Hver 7. arbeidende person er en "leder", eller en leder av et slag. Hvert arbeidende menneske har en eller flere sjefer, ofte kalt en "leder". Disse menneskene blir også vanligvis ledet. Betyr ledere virkelig noe? spør professor Jan Ketil Arnulf.
X-ALT-DESC:Alle har et forhold til ledelse. Hver 7. arbeidende person er en &quot;leder&quot;, eller en leder av et slag. Hvert arbeidende menneske har en eller flere sjefer, ofte kalt en &quot;leder&quot;. Disse menneskene blir ogs&#229; vanligvis ledet. Betyr ledere virkelig noe? sp&#248;r professor Jan Ketil Arnulf.
LOCATION:BI Stavanger
END:VEVENT


END:VCALENDAR



