
BEGIN:VCALENDAR
VERSION:2.0
PRODID:-//MarkedsPartner AS//Umbraco CMS//NO
TIMEZONE-ID:Europe/Oslo
X-WR-TIMEZONE:Europe/Oslo


BEGIN:VEVENT
UID:ddac18287fb84057b758b8adc285bfef
URL:https://stavangernaering-2023.azurewebsites.net/moeter/arkiv/lederskolen-v_280521/
ORGANIZER;CN=Ola Normann:MAILTO:ola.normann@markedspartner.no
DTSTAMP:20210528T090000Z
DTSTART:20210528T090000Z
DTEND:20210528T110000Z
LAST-MODIFIED:20221031T121810Z
SUMMARY:Lederskolen: Den beste form for ledelse
DESCRIPTION:Hvilken form for ledelse er forbundet med effektivitet i dagens arbeidsliv? Hør mer når Øyvind L. Martinsen avslutter vårsesongen i Lederskolen.
X-ALT-DESC:Hvilken form for ledelse er forbundet med effektivitet i dagens arbeidsliv? H&#248;r mer n&#229;r &#216;yvind L. Martinsen avslutter v&#229;rsesongen i Lederskolen.
LOCATION:webinar
END:VEVENT


END:VCALENDAR



