
BEGIN:VCALENDAR
VERSION:2.0
PRODID:-//MarkedsPartner AS//Umbraco CMS//NO
TIMEZONE-ID:Europe/Oslo
X-WR-TIMEZONE:Europe/Oslo


BEGIN:VEVENT
UID:d7c99c7db41d4dc88ebc6bc9dc2eea7d
URL:https://stavangernaering-2023.azurewebsites.net/moeter/arkiv/lederskolen-iv_300421/
ORGANIZER;CN=Ola Normann:MAILTO:ola.normann@markedspartner.no
DTSTAMP:20210430T090000Z
DTSTART:20210430T090000Z
DTEND:20210430T110000Z
LAST-MODIFIED:20221031T121343Z
SUMMARY:Lederskolen: Hvordan skape en solid merkevarestrategi og bygge kundeverdi?
DESCRIPTION:DIGITAL KONFERANSE: Markedsføring handler om å skape verdi for kundene. Dette skjer ofte i tett samspill med nettopp, kundene. Hva innebærer dette? Og hvordan skal vi gå fram for å utvikle gode kunderelasjoner?
X-ALT-DESC:DIGITAL KONFERANSE: Markedsf&#248;ring handler om &#229; skape verdi for kundene. Dette skjer ofte i tett samspill med nettopp, kundene. Hva inneb&#230;rer dette? Og hvordan skal vi g&#229; fram for &#229; utvikle gode kunderelasjoner?
LOCATION:webinar
END:VEVENT


END:VCALENDAR



