
BEGIN:VCALENDAR
VERSION:2.0
PRODID:-//MarkedsPartner AS//Umbraco CMS//NO
TIMEZONE-ID:Europe/Oslo
X-WR-TIMEZONE:Europe/Oslo


BEGIN:VEVENT
UID:3dd288e3679a4cc19b451be7c906bc9e
URL:https://stavangernaering-2023.azurewebsites.net/moeter/arkiv/lederskolen-iii_260321/
ORGANIZER;CN=Ola Normann:MAILTO:ola.normann@markedspartner.no
DTSTAMP:20210326T100000Z
DTSTART:20210326T100000Z
DTEND:20210326T120000Z
LAST-MODIFIED:20221031T121020Z
SUMMARY:Lederskolen: Tid for omstilling
DESCRIPTION:DIGITALKONFERANSE: Store omstillinger venter oss. Etter oljekrise, en pandemi og store klimaendringer er vi nødt til å gjøre noen tilpasninger. Hilde C. Bjørnland tar denne gang for seg vekst og omstilling.
X-ALT-DESC:DIGITALKONFERANSE: Store omstillinger venter oss. Etter oljekrise, en pandemi og store klimaendringer er vi n&#248;dt til &#229; gj&#248;re noen tilpasninger. Hilde C. Bj&#248;rnland tar denne gang for seg vekst og omstilling.
LOCATION:webinar
END:VEVENT


END:VCALENDAR



