
BEGIN:VCALENDAR
VERSION:2.0
PRODID:-//MarkedsPartner AS//Umbraco CMS//NO
TIMEZONE-ID:Europe/Oslo
X-WR-TIMEZONE:Europe/Oslo


BEGIN:VEVENT
UID:2aa26f7f8d214178ae4a3549138d2a1e
URL:https://stavangernaering-2023.azurewebsites.net/moeter/arkiv/lederskolen-ii_260221/
ORGANIZER;CN=Ola Normann:MAILTO:ola.normann@markedspartner.no
DTSTAMP:20210226T100000Z
DTSTART:20210226T100000Z
DTEND:20210226T120000Z
LAST-MODIFIED:20221031T120705Z
SUMMARY:Lederskolen: Velfungerende ledelse med Olav Kjellevold Olsen
DESCRIPTION:DIGITALKONFERANSE:  På Lederskolen denne gang får du vite hva som kjennetegner velfungerende ledelse. Olav Kjellevold Olsen deler sine tanker om hva som skal til for å skape den fine godfølelsen i bedriften.
X-ALT-DESC:DIGITALKONFERANSE:  P&#229; Lederskolen denne gang f&#229;r du vite hva som&#160;kjennetegner velfungerende ledelse. Olav Kjellevold Olsen deler sine tanker om hva som skal til for &#229; skape den fine godf&#248;lelsen i bedriften.
LOCATION:Online
END:VEVENT


END:VCALENDAR



