
BEGIN:VCALENDAR
VERSION:2.0
PRODID:-//MarkedsPartner AS//Umbraco CMS//NO
TIMEZONE-ID:Europe/Oslo
X-WR-TIMEZONE:Europe/Oslo


BEGIN:VEVENT
UID:ca480c8373d84b0eb9b5169fbb1e1787
URL:https://stavangernaering-2023.azurewebsites.net/moeter/arkiv/lederskolen-i_050221/
ORGANIZER;CN=Ola Normann:MAILTO:ola.normann@markedspartner.no
DTSTAMP:20210205T100000Z
DTSTART:20210205T100000Z
DTEND:20210205T120000Z
LAST-MODIFIED:20221031T120334Z
SUMMARY:Lederskolen med Steinar Bjartveit 
DESCRIPTION:DIGITALKONFERANSE: Hva har gresk mytologi og antikkens store helt, Akillevs, med ledelse anno 2021 å gjøre? Alt! Steinar Bjartveit er tilbake!
X-ALT-DESC:DIGITALKONFERANSE: Hva har gresk mytologi og antikkens store helt, Akillevs, med ledelse anno 2021 &#229; gj&#248;re? Alt! Steinar Bjartveit er tilbake!
LOCATION:Online
END:VEVENT


END:VCALENDAR



