
BEGIN:VCALENDAR
VERSION:2.0
PRODID:-//MarkedsPartner AS//Umbraco CMS//NO
TIMEZONE-ID:Europe/Oslo
X-WR-TIMEZONE:Europe/Oslo


BEGIN:VEVENT
UID:a90588f28a8446d4b923f1b666062579
URL:https://stavangernaering-2023.azurewebsites.net/moeter/arkiv/lean-workshop-a3/
ORGANIZER;CN=Ola Normann:MAILTO:ola.normann@markedspartner.no
DTSTAMP:20210324T110000Z
DTSTART:20210324T110000Z
DTEND:20210324T131500Z
LAST-MODIFIED:20221031T120938Z
SUMMARY:Lean Workshop A3
DESCRIPTION:Digital workshop om Lean-verktøyet A3.
X-ALT-DESC:Digital workshop om Lean-verkt&#248;yet A3.
LOCATION:Webinar.
END:VEVENT


END:VCALENDAR



