
BEGIN:VCALENDAR
VERSION:2.0
PRODID:-//MarkedsPartner AS//Umbraco CMS//NO
TIMEZONE-ID:Europe/Oslo
X-WR-TIMEZONE:Europe/Oslo


BEGIN:VEVENT
UID:f75fa63cdf1d4114a87fa40d9849ab0a
URL:https://stavangernaering-2023.azurewebsites.net/moeter/arkiv/introduksjonskurs-i-styrearbeid_mars-2022/
ORGANIZER;CN=Ola Normann:MAILTO:ola.normann@markedspartner.no
DTSTAMP:20220331T063000Z
DTSTART:20220331T063000Z
DTEND:20220331T133000Z
LAST-MODIFIED:20221031T122443Z
SUMMARY: Introduksjonskurs i styrearbeid
DESCRIPTION:Solid styrearbeid er avgjørende for alle virksomheter. Alle bedrifter forbereder nå sine generalforsamlinger og mange er på jakt etter nye styremedlemmer. Dette introduksjonskurset er en god startpakke og gjør deg godt forberedt enten du representerer eierne, de ansatte eller er leder med ansvar for styreoppfølging.
X-ALT-DESC:Solid styrearbeid er avgj&#248;rende for alle virksomheter. Alle bedrifter forbereder n&#229; sine generalforsamlinger og mange er p&#229; jakt etter nye styremedlemmer. Dette introduksjonskurset er en god startpakke og gj&#248;r deg godt forberedt enten du representerer eierne, de ansatte eller er leder med ansvar for styreoppf&#248;lging.
LOCATION:Rosenkildehuset, Strandkaien 6, 4005 Stavanger
END:VEVENT


END:VCALENDAR



