
BEGIN:VCALENDAR
VERSION:2.0
PRODID:-//MarkedsPartner AS//Umbraco CMS//NO
TIMEZONE-ID:Europe/Oslo
X-WR-TIMEZONE:Europe/Oslo


BEGIN:VEVENT
UID:b1df509519fc4bada5f6aea1220d8483
URL:https://stavangernaering-2023.azurewebsites.net/moeter/arkiv/high-wind-2022/
ORGANIZER;CN=Ola Normann:MAILTO:ola.normann@markedspartner.no
DTSTAMP:20220317T080000Z
DTSTART:20220317T080000Z
DTEND:20220317T150000Z
LAST-MODIFIED:20221031T122544Z
SUMMARY:HIGH WIND 2022
DESCRIPTION:Get updated on the latest development of the offshore wind market at High Wind 2022.
X-ALT-DESC:Get updated on the latest development of the offshore wind market at High Wind 2022.
LOCATION:Clarion Energy, Ishockeyveien 2, 4021 Stavanger
END:VEVENT


END:VCALENDAR



