
BEGIN:VCALENDAR
VERSION:2.0
PRODID:-//MarkedsPartner AS//Umbraco CMS//NO
TIMEZONE-ID:Europe/Oslo
X-WR-TIMEZONE:Europe/Oslo


BEGIN:VEVENT
UID:a3000c44e41545c084eadeed21cb728e
URL:https://stavangernaering-2023.azurewebsites.net/moeter/arkiv/energiaaret2021/
ORGANIZER;CN=Ola Normann:MAILTO:ola.normann@markedspartner.no
DTSTAMP:20210126T073000Z
DTSTART:20210126T073000Z
DTEND:20210126T091500Z
LAST-MODIFIED:20221031T120154Z
SUMMARY:Energiåret 2021
DESCRIPTION:DIGITALKONFERANSE:
NOAKA består av lisensene Krafla, Fulla og Nord for Alvheim (NOA) og er den største nye utbyggingen på norsk sokkel med verdier for 50-60 milliarder. Hva vil utbyggingen bety for regionen og bedriftene? Hva er utsiktene på norsk sokkel forøvrig og hvordan er pulsen i oljeservice sektoren? Hvor legger vi egentlig lista for hva som er mulig i Energihovedstaden?
X-ALT-DESC:DIGITALKONFERANSE:
NOAKA best&#229;r av lisensene Krafla, Fulla og Nord for Alvheim (NOA) og er den st&#248;rste nye utbyggingen p&#229; norsk sokkel med verdier for 50-60 milliarder. Hva vil utbyggingen bety for regionen og bedriftene? Hva er utsiktene p&#229; norsk sokkel for&#248;vrig og hvordan er pulsen i oljeservice sektoren? Hvor legger vi egentlig lista for hva som er mulig i Energihovedstaden?
LOCATION:DIGITAL KONFERANSE
END:VEVENT


END:VCALENDAR



