
BEGIN:VCALENDAR
VERSION:2.0
PRODID:-//MarkedsPartner AS//Umbraco CMS//NO
TIMEZONE-ID:Europe/Oslo
X-WR-TIMEZONE:Europe/Oslo


BEGIN:VEVENT
UID:60bbd142c3264708b83311319e2b0172
URL:https://stavangernaering-2023.azurewebsites.net/moeter/arkiv/energiaaret-2022_090221/
ORGANIZER;CN=Ola Normann:MAILTO:ola.normann@markedspartner.no
DTSTAMP:20220209T073000Z
DTSTART:20220209T073000Z
DTEND:20220209T110000Z
LAST-MODIFIED:20221031T122919Z
SUMMARY:Energiåret: Dette skjer i 2022
DESCRIPTION:Endelig møtes vi! Dette er formiddagen hvor leverandørindustrien, operatørene og alle andre med tilknytning til næringen får oversikten over hva som skal skje i Energiåret 2022. Hovedvekten vil være på norsk sokkel, enten det gjelder havvind eller olje og gass. På scenen står aktører som Equinor, IKM, Horisont Energi, Sval Energi,  OD og norsk olje og gass.
X-ALT-DESC:Endelig m&#248;tes vi! Dette er formiddagen hvor leverand&#248;rindustrien, operat&#248;rene og alle andre med tilknytning til n&#230;ringen f&#229;r oversikten over hva som skal skje i Energi&#229;ret 2022. Hovedvekten vil v&#230;re p&#229; norsk sokkel, enten det gjelder havvind eller olje og gass. P&#229; scenen st&#229;r akt&#248;rer som Equinor, IKM, Horisont Energi, Sval Energi,  OD og norsk olje og gass.
LOCATION:Clarion Hotel, Arne Rettedals gate 14, 4008 Stavanger
END:VEVENT


END:VCALENDAR



