
BEGIN:VCALENDAR
VERSION:2.0
PRODID:-//MarkedsPartner AS//Umbraco CMS//NO
TIMEZONE-ID:Europe/Oslo
X-WR-TIMEZONE:Europe/Oslo


BEGIN:VEVENT
UID:95a501aaa51440508d4d8fdfc95fe281
URL:https://stavangernaering-2023.azurewebsites.net/moeter/arkiv/eksportdagen_mars2022/
ORGANIZER;CN=Ola Normann:MAILTO:ola.normann@markedspartner.no
DTSTAMP:20220316T073000Z
DTSTART:20220316T073000Z
DTEND:20220316T111000Z
LAST-MODIFIED:20221110T074927Z
SUMMARY:Fagdag EKSPORT
DESCRIPTION:Vi må ut i verden for å selge våre varer og tjenester. Leverandørindustrien til petroleumsvirksomheten har lykkes med dette, men nå må det eksporteres bredere. Internasjonalisering er avgjørende for næringslivet i Rogaland. Hva må du huske på?
X-ALT-DESC:Vi m&#229; ut i verden for &#229; selge v&#229;re varer og tjenester. Leverand&#248;rindustrien til petroleumsvirksomheten har lykkes med dette, men n&#229; m&#229; det eksporteres bredere. Internasjonalisering er avgj&#248;rende for n&#230;ringslivet i Rogaland. Hva m&#229; du huske p&#229;?
LOCATION:Rosenkildehuset, Strandkaien 6, 4005 Stavanger
END:VEVENT


END:VCALENDAR



