
BEGIN:VCALENDAR
VERSION:2.0
PRODID:-//MarkedsPartner AS//Umbraco CMS//NO
TIMEZONE-ID:Europe/Oslo
X-WR-TIMEZONE:Europe/Oslo


BEGIN:VEVENT
UID:4e6133f4992d433db24b65517c4adf7b
URL:https://stavangernaering-2023.azurewebsites.net/moeter/arkiv/droner_200821/
ORGANIZER;CN=Ola Normann:MAILTO:ola.normann@markedspartner.no
DTSTAMP:20210820T063000Z
DTSTART:20210820T063000Z
DTEND:20210820T101500Z
LAST-MODIFIED:20221031T122155Z
SUMMARY:Droneindustrien vokser
DESCRIPTION:Kan regionen bli fremst på autonome løsninger? Hvor står vi, og hva skal til videre?
X-ALT-DESC:Kan regionen bli fremst p&#229; autonome l&#248;sninger? Hvor st&#229;r vi, og hva skal til videre?
LOCATION:Clarion Hotel Stavanger, Arne Rettedals gate 14, 4008 Stavanger
END:VEVENT


END:VCALENDAR



